BEGIN:VCALENDAR
VERSION:2.0
PRODID:-//Turtle Run Winery - ECPv6.15.20//NONSGML v1.0//EN
CALSCALE:GREGORIAN
METHOD:PUBLISH
X-ORIGINAL-URL:https://turtlerunwinery.com
X-WR-CALDESC:Events for Turtle Run Winery
REFRESH-INTERVAL;VALUE=DURATION:PT1H
X-Robots-Tag:noindex
X-PUBLISHED-TTL:PT1H
BEGIN:VTIMEZONE
TZID:UTC
BEGIN:STANDARD
TZOFFSETFROM:+0000
TZOFFSETTO:+0000
TZNAME:UTC
DTSTART:20240101T000000
END:STANDARD
END:VTIMEZONE
BEGIN:VEVENT
DTSTART;TZID=UTC:20250901T120000
DTEND;TZID=UTC:20250901T183000
DTSTAMP:20260422T085014
CREATED:20240530T215805Z
LAST-MODIFIED:20250825T181520Z
UID:2410-1756728000-1756751400@turtlerunwinery.com
SUMMARY:Holiday Concert Series:  Nervous Melvin & the Mistakes then Frequency
DESCRIPTION:Today\, we are hosting two of the best and long running bands in the area\, Nervous Melvin and then Frequency.  Who can’t remember going to Butchertown Pub or Phoenix Hill and hearing Nervous Melvin? \nNervous Melvin is the eclectic rock band that creates their own groove to hits\, great songs\, rock\, alternative rock\, you name it\, Nervous Melvin.  I love their personal twists to classic songs.  Sometimes\, you have to stop and think\, yeah\, I’ve heard that before\, what / who is that\, because of how original they can twist a song into something different and totally cool.  Nervous plays from 12:00 to 3:00 or so\, then…. \nFreQuency with it’s well known musicians and vocal talent has become one of Louisville areas band to watch perform! Fleetwood Mac\, Tom Petty\, Doobie Brothers The Pretenders\, The Who\, The Rolling Stones\, Linda R\, Smokey Robinson and much more!!  Mary and Trent can really hit the vocals with great harmonies and just the overall feel and blend of the sounds is quite remarkable.  They will play from 3:30 to 6:30 ish. \nOur concerts are free and they are family friendly. You are welcome to bring food. We are normally selling grilled fare to benefit various programs from Special Olympics to Providence High School Swim and Dive. No other alcohol permitted. \nAll concerts are outside. Wine tastings during concerts are outside. Wine can be purchased inside or outside. Cheese and crackers are available inside the winery. Grilled fare is sold on the east side of the winery behind the band. We have complimentary plastic cups. We sell wine glasses or you can bring your own wine glass. We suggest that you bring a lawn chair. Lastly\, if you would like to borrow an ice bucket for your wine\, great. We have them available\, just please return them to the winery or the tent before you leave. \nCheers\, Laura\, Jim\, Max\, Joe\, Catherine\, and our wonderful staff.
URL:https://turtlerunwinery.com/event/holiday-concert-series-nervous-melvin-and-the-mistakes-2/
LOCATION:Turtle Run Winery
ATTACH;FMTTYPE=image/jpeg:https://turtlerunwinery.com/wp-content/uploads/2024/04/Nervous-Melvin-2.jpg
ORGANIZER;CN="Turtle Run Winery":MAILTO:turtlerunwinery@gmail.com
END:VEVENT
END:VCALENDAR