BEGIN:VCALENDAR
VERSION:2.0
PRODID:-//Turtle Run Winery - ECPv6.15.20//NONSGML v1.0//EN
CALSCALE:GREGORIAN
METHOD:PUBLISH
X-ORIGINAL-URL:https://turtlerunwinery.com
X-WR-CALDESC:Events for Turtle Run Winery
REFRESH-INTERVAL;VALUE=DURATION:PT1H
X-Robots-Tag:noindex
X-PUBLISHED-TTL:PT1H
BEGIN:VTIMEZONE
TZID:UTC
BEGIN:STANDARD
TZOFFSETFROM:+0000
TZOFFSETTO:+0000
TZNAME:UTC
DTSTART:20240101T000000
END:STANDARD
END:VTIMEZONE
BEGIN:VEVENT
DTSTART;TZID=UTC:20250914T133000
DTEND;TZID=UTC:20250914T173000
DTSTAMP:20260422T085044
CREATED:20240421T191105Z
LAST-MODIFIED:20250331T191604Z
UID:2352-1757856600-1757871000@turtlerunwinery.com
SUMMARY:Sunday Concert Series:  Honky Tonk Rewind
DESCRIPTION:Time for some great country music\, like really good.  This is the premier traditional country music band featuring elite country music players.  A must see if you like country…..or even if you don’t\, you’ll probably like THIS country \nOur concerts are free and they are family friendly. You are welcome to bring food. We are normally selling grilled fare to benefit various programs from Special Olympics to Providence High School Swim and Dive. No other alcohol permitted. \nAll concerts are outside. Wine tastings during concerts are outside. Wine can be purchased inside or outside. Cheese and crackers are available inside the winery. Grilled fare is sold on the east side of the winery behind the band. We have complimentary plastic cups. We sell wine glasses or you can bring your own wine glass. We suggest that you bring a lawn chair. Lastly\, if you would like to borrow an ice bucket for your wine\, great. We have them available\, just please return them to the winery or the tent before you leave. \n  \nCheers\, Laura\, Jim\, Max\, Joe\, Catherine\, and our wonderful staff.
URL:https://turtlerunwinery.com/event/sunday-concert-series-honky-tonk-rewind/
LOCATION:Turtle Run Winery
ATTACH;FMTTYPE=image/jpeg:https://turtlerunwinery.com/wp-content/uploads/2024/04/HTR-Mt-Wash-2023.jpg
ORGANIZER;CN="Turtle Run Winery":MAILTO:turtlerunwinery@gmail.com
END:VEVENT
END:VCALENDAR