BEGIN:VCALENDAR
VERSION:2.0
PRODID:-//Turtle Run Winery - ECPv6.15.20//NONSGML v1.0//EN
CALSCALE:GREGORIAN
METHOD:PUBLISH
X-WR-CALNAME:Turtle Run Winery
X-ORIGINAL-URL:https://turtlerunwinery.com
X-WR-CALDESC:Events for Turtle Run Winery
REFRESH-INTERVAL;VALUE=DURATION:PT1H
X-Robots-Tag:noindex
X-PUBLISHED-TTL:PT1H
BEGIN:VTIMEZONE
TZID:UTC
BEGIN:STANDARD
TZOFFSETFROM:+0000
TZOFFSETTO:+0000
TZNAME:UTC
DTSTART:20250101T000000
END:STANDARD
END:VTIMEZONE
BEGIN:VEVENT
DTSTART;TZID=UTC:20260425T120000
DTEND;TZID=UTC:20260425T180000
DTSTAMP:20260423T172437
CREATED:20260407T213928Z
LAST-MODIFIED:20260407T214226Z
UID:2538-1777118400-1777140000@turtlerunwinery.com
SUMMARY:25th Winery Anniversary Weekend!
DESCRIPTION:This year\, we are celebrating the 25th Anniversary of Turtle Run Winery.  This weekend\, we’ll taste older vintages of Max’s Small Batch Red\, Catherine’s Blend and Joe’s Jammin’ Red.  We’ll also have commemorative bottlings of two special wines\, Laura’s Barrel Dry Red and Jim’ Blend.  Who has better taste in blending dry reds\, Laura or Jim?  We…shall…see. \nWe’ll also taste some very old original bottlings of wines too\, yes\, 25 plus year’s old wines!  Some fun pictures and other memorabilia will be on display\, plus thumb through a binder of history of Turtle Run Winery plus….did you know that we come from a bourbon and whiskey producing background?  From both maternal and the fraternal side of Jim\, yes\, whiskey.  Here is a site link from his mom’s side.  https://www.pre-pro.com/midacore/view_distillery.php?did=DST371 .  The 1896 brand comes from Jim’s dad’s side.  Prohibition shut down both distillery operations.  After prohibition\, Ray Pfeiffer\, Sr\, Jim’s grandfather worked for and became an executive at Glenmore Distillery. \nLiterally\, one generation skipped and voila\, back the family roots sprout\, this time in wine. \nCome out this weekend for some premium “Blast from the Past” wines and some fun new wines which we have been working on for a few years in anticipation for our 25th anniversary celebration! \n  \n  \n 
URL:https://turtlerunwinery.com/event/25th-winery-anniversary-weekend/
LOCATION:Turtle Run Winery
ATTACH;FMTTYPE=image/jpeg:https://turtlerunwinery.com/wp-content/uploads/2026/04/kentucky-dew-to-Turtle-Run-Winery.jpg
ORGANIZER;CN="Turtle Run Winery":MAILTO:turtlerunwinery@gmail.com
END:VEVENT
END:VCALENDAR