BEGIN:VCALENDAR
VERSION:2.0
PRODID:-//Turtle Run Winery - ECPv6.15.20//NONSGML v1.0//EN
CALSCALE:GREGORIAN
METHOD:PUBLISH
X-ORIGINAL-URL:https://turtlerunwinery.com
X-WR-CALDESC:Events for Turtle Run Winery
REFRESH-INTERVAL;VALUE=DURATION:PT1H
X-Robots-Tag:noindex
X-PUBLISHED-TTL:PT1H
BEGIN:VTIMEZONE
TZID:UTC
BEGIN:STANDARD
TZOFFSETFROM:+0000
TZOFFSETTO:+0000
TZNAME:UTC
DTSTART:20250101T000000
END:STANDARD
END:VTIMEZONE
BEGIN:VEVENT
DTSTART;TZID=UTC:20260503T133000
DTEND;TZID=UTC:20260503T173000
DTSTAMP:20260423T172628
CREATED:20250331T171229Z
LAST-MODIFIED:20260407T221106Z
UID:2462-1777815000-1777829400@turtlerunwinery.com
SUMMARY:Sunday Concert Series:  Rockslide
DESCRIPTION:  \nWe kick off our season with the veteran rock group\, Rockslide.  This is good old classic rock.  Rock\, rock\, rock.  If you like rock and roll\, this is your band.  Sorry about the older picture\, but hey\, here it is March 31’st and I am loading up the concerts online. \nOur concerts are free and they are family friendly. You are welcome to bring food. We are normally selling grilled fare to benefit various programs from Special Olympics to Providence High School Swim and Dive. No other alcohol permitted. \nAll concerts are outside. Wine tastings during concerts are outside. Wine can be purchased inside or outside. Cheese and crackers are available inside the winery. Grilled fare is sold on the east side of the winery behind the band. We have complimentary plastic cups. We sell wine glasses or you can bring your own wine glass. We suggest that you bring a lawn chair. Lastly\, if you would like to borrow an ice bucket for your wine\, great. We have them available\, just please return them to the winery or the tent before you leave. \nCheers\, Laura\, Jim\, Max\, Joe\, Catherine\, and our wonderful staff.
URL:https://turtlerunwinery.com/event/sunday-concert-series-rockslide-2/
LOCATION:Turtle Run Winery
ATTACH;FMTTYPE=image/jpeg:https://turtlerunwinery.com/wp-content/uploads/2024/06/Rockslide-2025.jpg
ORGANIZER;CN="Turtle Run Winery":MAILTO:turtlerunwinery@gmail.com
END:VEVENT
END:VCALENDAR